BEGIN:VCALENDAR
VERSION:2.0
PRODID:-//hacksw/handcal//NONSGML v1.0//EN
BEGIN:VEVENT
SUMMARY:COURSE UFOLEP DE RIVIERES
UID:94973c35-e01a-49f1-aaf8-d5edb0ee1964
DTSTART:20260425T220000Z
DTEND:20260426T220000Z
LOCATION:Localisation   
CATEGORIES:Sportif
STATUS:
URL;VALUE=URI:https://algp-cyclo.sportsregions.fr/evenements/2026/04/26/course-ufolep-de-rivieres-2443506
END:VEVENT
END:VCALENDAR
