BEGIN:VCALENDAR
VERSION:2.0
PRODID:-//hacksw/handcal//NONSGML v1.0//EN
BEGIN:VEVENT
SUMMARY:COURSE UFOLEP DE ST ROMAIN
UID:7e55d694-b2db-4c14-aad1-a7939ec84f42
DTSTART:20260418T220000Z
DTEND:20260419T220000Z
LOCATION:Localisation   
CATEGORIES:Sportif
STATUS:
URL;VALUE=URI:https://algp-cyclo.sportsregions.fr/evenements/2026/04/19/course-ufolep-de-st-romain-2442685
END:VEVENT
END:VCALENDAR
