BEGIN:VCALENDAR
VERSION:2.0
PRODID:-//hacksw/handcal//NONSGML v1.0//EN
BEGIN:VEVENT
SUMMARY:COUPE DE FRANCE VTT XC  GUERET (23)
UID:ad3a4877-e357-4a50-af70-2f7cceec3ce1
DTSTART:20260417T220000Z
DTEND:20260418T220000Z
LOCATION:Localisation   
CATEGORIES:Sportif
STATUS:
URL;VALUE=URI:https://algp-cyclo.sportsregions.fr/evenements/2026/04/18/coupe-de-france-vtt-xc-gueret-23-2430807
END:VEVENT
END:VCALENDAR
