BEGIN:VCALENDAR
VERSION:2.0
PRODID:-//hacksw/handcal//NONSGML v1.0//EN
BEGIN:VEVENT
SUMMARY:COURSE ufolep de ROULLET
UID:8b8428bb-da22-4812-b38b-1a78345ab8a4
DTSTART:20260411T220000Z
DTEND:20260412T220000Z
LOCATION:Localisation   
CATEGORIES:Sportif
STATUS:
URL;VALUE=URI:https://algp-cyclo.sportsregions.fr/evenements/2026/04/12/course-ufolep-de-roullet-2439437
END:VEVENT
END:VCALENDAR
