BEGIN:VCALENDAR
VERSION:2.0
PRODID:-//hacksw/handcal//NONSGML v1.0//EN
BEGIN:VEVENT
SUMMARY:COURSE UFOLEP DE FORGES LES EAUX (76)
UID:b639f00c-9704-42cb-882b-0524fcaca208
DTSTART:20260411T220000Z
DTEND:20260412T220000Z
LOCATION:Localisation   
CATEGORIES:Sportif
STATUS:
URL;VALUE=URI:https://algp-cyclo.sportsregions.fr/evenements/2026/04/12/course-ufolep-de-forges-les-eaux-76-2438662
END:VEVENT
END:VCALENDAR
