BEGIN:VCALENDAR
VERSION:2.0
PRODID:-//hacksw/handcal//NONSGML v1.0//EN
BEGIN:VEVENT
SUMMARY:RANDO UFOLEP VTT YVRAC ET MALLEYRAN
UID:fc40b9cd-d742-44e5-be2d-0272eb60fa5d
DTSTART:20260405T220000Z
DTEND:20260406T220000Z
LOCATION:Localisation   
CATEGORIES:Sportif
STATUS:
URL;VALUE=URI:https://algp-cyclo.sportsregions.fr/evenements/2026/04/06/rando-ufolep-vtt-yvrac-et-malleyran-2437810
END:VEVENT
END:VCALENDAR
