BEGIN:VCALENDAR
VERSION:2.0
PRODID:-//hacksw/handcal//NONSGML v1.0//EN
BEGIN:VEVENT
SUMMARY:XC VTT VIVONNE (86)
UID:c22aa898-1a5a-4fc3-954e-a75801703620
DTSTART:20260404T220000Z
DTEND:20260405T220000Z
LOCATION:Localisation   
CATEGORIES:Sportif
STATUS:
URL;VALUE=URI:https://algp-cyclo.sportsregions.fr/evenements/2026/04/05/xc-vtt-vivonne-86-2435230
END:VEVENT
END:VCALENDAR
