BEGIN:VCALENDAR
VERSION:2.0
PRODID:-//hacksw/handcal//NONSGML v1.0//EN
BEGIN:VEVENT
SUMMARY:SORTIE DE LA SECTION GOND PONTOUVRE
UID:51cd79f8-db8e-4df3-9b70-278d4cb965b4
DTSTART:20260404T220000Z
DTEND:20260405T220000Z
LOCATION:Localisation   
CATEGORIES:Sportif
STATUS:
URL;VALUE=URI:https://algp-cyclo.sportsregions.fr/evenements/2026/04/05/sortie-de-la-section-gond-pontouvre-2438658
END:VEVENT
END:VCALENDAR
