BEGIN:VCALENDAR
VERSION:2.0
PRODID:-//hacksw/handcal//NONSGML v1.0//EN
BEGIN:VEVENT
SUMMARY:COURSE UFOLEP DE ST ASTIER (24)
UID:7fbf2da3-08ae-4b13-b7aa-d509d249f7a4
DTSTART:20260328T230000Z
DTEND:20260329T230000Z
LOCATION:Localisation   
CATEGORIES:Sportif
STATUS:
URL;VALUE=URI:https://algp-cyclo.sportsregions.fr/evenements/2026/03/29/course-ufolep-de-st-astier-24-2434148
END:VEVENT
END:VCALENDAR
